{"text_format":"2","workbook":"xlsx","n_sheets":2,"sheets":["신청서(작성_양식변경절대금지)","요약본(자동작성)"],"not_rendered":{"charts":0,"images":0,"macros":0,"external_links":0,"defined_names":2,"comments":1,"pivot_tables":0},"unopened":[],"bounds":{"document_bytes":16777216,"sheet_cells":100000,"run_cost":"one","rows_first":2000,"rows_last":500,"rows_between":2000,"halvings":0,"cell_chars":16384,"cell_head_chars":4096},"cells_cut":0,"cells_raw":0,"read":"whole","date_system":"1900"}

{"sheet":"신청서(작성_양식변경절대금지)","index":0,"n_rows":44,"n_cols":9,"rows_kept":44,"cut":false,"hidden":false,"merged":[[0,1,0,9],[35,1,35,9],[36,1,36,9],[6,2,7,2],[4,3,4,4],[4,6,4,7],[5,2,5,4],[5,5,5,7],[6,1,10,1],[11,1,12,1],[9,8,10,9],[21,8,22,9],[2,8,2,9],[13,8,13,9],[15,4,15,5],[43,1,43,9],[13,1,16,1],[17,1,20,1],[21,1,25,1],[17,8,17,9],[18,8,18,9],[14,4,14,5],[20,8,20,9],[13,6,13,7],[20,4,20,6],[20,2,20,3],[21,2,21,3],[21,4,22,6],[21,7,22,7],[32,6,32,8],[29,1,29,9],[37,1,37,9],[38,1,38,9],[39,1,39,9],[19,8,19,9],[8,2,9,2],[10,3,10,5],[18,4,18,6],[11,3,11,4],[8,4,8,5],[16,6,16,7],[19,4,19,6],[17,4,17,6],[9,4,9,5],[16,8,16,9],[15,8,15,9],[14,8,14,9],[2,3,2,4],[2,6,2,7],[6,4,6,7],[23,4,23,6],[24,4,24,6],[9,6,10,7],[7,4,7,7],[18,2,18,3],[19,2,19,3],[17,2,17,3],[15,6,15,7],[16,4,16,5],[14,6,14,7],[13,4,13,5],[11,6,11,9],[12,3,12,4],[3,3,3,4],[3,6,3,7],[25,4,25,6],[23,8,23,9],[24,8,24,9],[25,8,25,9],[12,6,12,9]]}
[null,"LH 건설안전 자문단 지원서"]
[]
[null,"1. 응모분야","1지망","건설안전",null,"2지망","토목시공",null,"사    진 "]
[null,"2. 점검가능 지역","1지망","수도권",null,"2지망","충청권"]
[null,"3. 성    명","한    글","홍길동",null,"한    자","OOO"]
[null,"4. 생년월일","1970-01-01"]
[null,"5. 연 락 처","주    소","(사무실)","경남 진주시 충의로 19 한국토지주택공사 안전기획실"]
[null,null,null,"(자  택)","서울특별시 강동구 000로 000아파트 00동 00호"]
[null,null,"전화번호","(사무실)","055-000-0000",null,"(팩  스)","055-000-0000"]
[null,null,null,"(휴대폰)","010-000-0000"]
[null,null,"E-mail","lh.lh.or.kr"]
[null,"6. 직장현황","소속기관","00엔지니어링",null,"부서","OOOO부"]
[null,null,"직위","소장",null,"담당업무","안전컨설팅, 자문, 안전관리계획 검토 등"]
[null,"7. 학력현황","구분","졸업년월","출신학교",null,"출신학과",null,"비고"]
[null,null,"학사","1995-02-01","00대학교",null,"안전공학과"]
[null,null,"석사","1997-02-01","00대학교",null,"안전공학과"]
[null,null,"박사","2001-02-01","00대학교",null,"안전공학과"]
[null,"8. 자격현황","취득년월",null,"자격종목 및 등급",null,null,"자격 등록 번호","인가․관리기관"]
[null,null,"2002-04-01",null,"건설안전기술사"]
[null,null,"2003-04-01",null,"산업안전지도사(건설안전)"]
[null,null,"2004-04-01",null,"건축구조기술사"]
[null,"9. 주요경력","해당 지원분야 근무기간",null,"근무처",null,null,"직위","담당업무"]
[null,null,"시작년월","종료년월"]
[null,null,"2018-12-01","2021-06-01","00엔지니어링",null,null,"소장","안전컨설팅, 자문 등"]
[null,null,"2015-12-01","2018-12-01","00안전주식회사",null,null,"부장","안전컨설팅, 자문 등"]
[null,null,"2001-02-01","2015-12-01","00건설",null,null,"부장","안전관리업무"]
[]
[]
[]
[null,"위에 기재한 사항은 사실과 틀림이 없음"]
[]
[]
[{"$nulls":6},"2021년      월      일"]
[]
[]
[null,"※ 상기 개인정보와 관련하여 개인정보보호법 제15조에 따른 개인정보 수집에 대하여 동의합니다.       "]
[null,"   1. 개인정보의 수집․이용 목적 : 건설안전 자문단 선임 및 활동"]
[null,"   2. 수집하려는 개인정보의 항목 : 생년월일, 전화번호, 직장정보 등 위원선임 및 활동을 위한 개인정보\n     * 주민등록번호는 수집하지 않음"]
[null,"   3. 개인정보의 보유 및 이용 기간 : 건설안전 자문단 선임기간내"]
[null,"   4. 동의를 거부할 권리가 있으며 동의 거부시 위원선임이 불가합니다."]
[]
[{"$nulls":6},"성 명 :",null,"(서명/인)"]
[]
[null,"한국토지주택공사 안전기획실장 귀하"]

{"sheet":"요약본(자동작성)","index":1,"n_rows":7,"n_cols":22,"rows_kept":7,"cut":false,"hidden":false,"merged":[[4,21,6,21],[2,14,2,17],[0,0,0,21],[4,7,6,7],[4,8,6,8],[4,9,6,9],[4,18,6,18],[4,19,6,19],[4,20,6,20],[4,0,6,0],[4,1,6,1],[4,2,6,2],[4,5,6,5],[4,6,6,6],[2,19,3,19],[2,20,3,20],[2,21,3,21],[2,9,3,9],[2,10,2,12],[2,13,3,13],[2,0,3,0],[2,5,3,5],[2,6,3,6],[2,1,2,2],[2,3,2,4],[4,3,6,3],[4,4,6,4],[2,7,3,7],[2,8,3,8],[2,18,3,18]]}
["LH 건설안전 자문단 지원서"]
[]
["구분","응모분야",null,"점검가능 지역",null,"성명","생년월일","소속기관","직위","담당업무","출신대학",null,null,"자격증","주요경력",null,null,null,"직장전화","핸드폰","E-mail","직장주소"]
[null,"1지망","2지망","1지망","2지망",{"$nulls":5},"구분","대학","전공학과",null,"소속","직위","업무","기간(년)"]
[1,{"$f":"'신청서(작성_양식변경절대금지)'!D3","v":"건설안전"},{"$f":"'신청서(작성_양식변경절대금지)'!G3","v":"토목시공"},{"$f":"'신청서(작성_양식변경절대금지)'!D4:E4","v":"수도권"},{"$f":"'신청서(작성_양식변경절대금지)'!G4","v":"충청권"},{"$f":"'신청서(작성_양식변경절대금지)'!D5","v":"홍길동"},{"$f":"'신청서(작성_양식변경절대금지)'!C6","v":"1970-01-01"},{"$f":"'신청서(작성_양식변경절대금지)'!D12","v":"00엔지니어링"},{"$f":"'신청서(작성_양식변경절대금지)'!D13","v":"소장"},{"$f":"'신청서(작성_양식변경절대금지)'!G13","v":"안전컨설팅, 자문, 안전관리계획 검토 등"},{"$f":"'신청서(작성_양식변경절대금지)'!C15","v":"학사"},{"$f":"'신청서(작성_양식변경절대금지)'!E15","v":"00대학교"},{"$f":"'신청서(작성_양식변경절대금지)'!G15","v":"안전공학과"},{"$f":"'신청서(작성_양식변경절대금지)'!E19","v":"건설안전기술사"},{"$f":"'신청서(작성_양식변경절대금지)'!E24","v":"00엔지니어링"},{"$f":"'신청서(작성_양식변경절대금지)'!H24","v":"소장"},{"$f":"'신청서(작성_양식변경절대금지)'!I24","v":"안전컨설팅, 자문 등"},{"$f":"('신청서(작성_양식변경절대금지)'!D24-'신청서(작성_양식변경절대금지)'!C24)/365","v":2.5013698630136987},{"$f":"'신청서(작성_양식변경절대금지)'!E9","v":"055-000-0000"},{"$f":"'신청서(작성_양식변경절대금지)'!E10","v":"010-000-0000"},{"$f":"'신청서(작성_양식변경절대금지)'!D11","v":"lh.lh.or.kr"},{"$f":"'신청서(작성_양식변경절대금지)'!E7","v":"경남 진주시 충의로 19 한국토지주택공사 안전기획실"}]
[{"$nulls":10},{"$f":"'신청서(작성_양식변경절대금지)'!C16","v":"석사"},{"$f":"'신청서(작성_양식변경절대금지)'!E16","v":"00대학교"},{"$f":"'신청서(작성_양식변경절대금지)'!G16","v":"안전공학과"},{"$f":"'신청서(작성_양식변경절대금지)'!E20","v":"산업안전지도사(건설안전)"},{"$f":"'신청서(작성_양식변경절대금지)'!E25","v":"00안전주식회사"},{"$f":"'신청서(작성_양식변경절대금지)'!H25","v":"부장"},{"$f":"'신청서(작성_양식변경절대금지)'!I25","v":"안전컨설팅, 자문 등"},{"$f":"('신청서(작성_양식변경절대금지)'!D25-'신청서(작성_양식변경절대금지)'!C25)/365","v":3.0027397260273974}]
[{"$nulls":10},{"$f":"'신청서(작성_양식변경절대금지)'!C17","v":"박사"},{"$f":"'신청서(작성_양식변경절대금지)'!E17","v":"00대학교"},{"$f":"'신청서(작성_양식변경절대금지)'!G17","v":"안전공학과"},{"$f":"'신청서(작성_양식변경절대금지)'!E21","v":"건축구조기술사"},{"$f":"'신청서(작성_양식변경절대금지)'!E26","v":"00건설"},{"$f":"'신청서(작성_양식변경절대금지)'!H26","v":"부장"},{"$f":"'신청서(작성_양식변경절대금지)'!I26","v":"안전관리업무"},{"$f":"('신청서(작성_양식변경절대금지)'!D26-'신청서(작성_양식변경절대금지)'!C26)/365","v":14.838356164383562}]